BEGIN:VCALENDAR
VERSION:2.0
PRODID:-//Mount Shasta Resort - ECPv6.15.18//NONSGML v1.0//EN
CALSCALE:GREGORIAN
METHOD:PUBLISH
X-ORIGINAL-URL:https://www.mountshastaresort.com
X-WR-CALDESC:Events for Mount Shasta Resort
REFRESH-INTERVAL;VALUE=DURATION:PT1H
X-Robots-Tag:noindex
X-PUBLISHED-TTL:PT1H
BEGIN:VTIMEZONE
TZID:America/Los_Angeles
BEGIN:DAYLIGHT
TZOFFSETFROM:-0800
TZOFFSETTO:-0700
TZNAME:PDT
DTSTART:20230312T100000
END:DAYLIGHT
BEGIN:STANDARD
TZOFFSETFROM:-0700
TZOFFSETTO:-0800
TZNAME:PST
DTSTART:20231105T090000
END:STANDARD
BEGIN:DAYLIGHT
TZOFFSETFROM:-0800
TZOFFSETTO:-0700
TZNAME:PDT
DTSTART:20240310T100000
END:DAYLIGHT
BEGIN:STANDARD
TZOFFSETFROM:-0700
TZOFFSETTO:-0800
TZNAME:PST
DTSTART:20241103T090000
END:STANDARD
BEGIN:DAYLIGHT
TZOFFSETFROM:-0800
TZOFFSETTO:-0700
TZNAME:PDT
DTSTART:20250309T100000
END:DAYLIGHT
BEGIN:STANDARD
TZOFFSETFROM:-0700
TZOFFSETTO:-0800
TZNAME:PST
DTSTART:20251102T090000
END:STANDARD
BEGIN:DAYLIGHT
TZOFFSETFROM:-0800
TZOFFSETTO:-0700
TZNAME:PDT
DTSTART:20260308T100000
END:DAYLIGHT
BEGIN:STANDARD
TZOFFSETFROM:-0700
TZOFFSETTO:-0800
TZNAME:PST
DTSTART:20261101T090000
END:STANDARD
END:VTIMEZONE
BEGIN:VEVENT
DTSTART;TZID=America/Los_Angeles:20250608T090000
DTEND;TZID=America/Los_Angeles:20250608T150000
DTSTAMP:20260421T031448
CREATED:20250403T231812Z
LAST-MODIFIED:20250403T231812Z
UID:10000036-1749373200-1749394800@www.mountshastaresort.com
SUMMARY:Swing into Spring Golf Tournament- MS Chamber of Commerce and Mountain Top Athletics
DESCRIPTION:With all of this lovely spring weather on the way\, get your golf teams together and register for the Swing Into Spring golf event\, presented by the Mt. Shasta Chamber and Mountain Top Athletics. We can only accommodate 30 teams\, so don’t miss out! \n 
URL:https://www.mountshastaresort.com/event/swing-into-spring-golf-tournament-ms-chamber-of-commerce-and-mountain-top-athletics/
LOCATION:Mount Shasta Resort\, 1000 SISKIYOU LAKE BLVD\, MOUNT SHASTA\, CA\, 96067-9482\, United States
CATEGORIES:Golf Tournaments
ATTACH;FMTTYPE=image/jpeg:https://www.mountshastaresort.com/wp-content/uploads/sites/8249/2025/04/golf.jpg
ORGANIZER;CN="Mount Shasta Chamber of Commerce":MAILTO:info@mtshastachamber.com
END:VEVENT
BEGIN:VEVENT
DTSTART;TZID=America/Los_Angeles:20250525T080000
DTEND;TZID=America/Los_Angeles:20250525T170000
DTSTAMP:20260421T031448
CREATED:20250430T215237Z
LAST-MODIFIED:20250430T215300Z
UID:10000053-1748160000-1748192400@www.mountshastaresort.com
SUMMARY:Mount Shasta Pickleball
DESCRIPTION:Register Now! Come have fun playing in a great tournament at the base of majestic Mount Shasta. Also lots to do in our beautiful area when you’re done playing. https://pickleballtournaments.com/…/2025-mt-shasta…
URL:https://www.mountshastaresort.com/event/mount-shasta-pickleball-2/
LOCATION:Mount Shasta Resort\, 1000 SISKIYOU LAKE BLVD\, MOUNT SHASTA\, CA\, 96067-9482\, United States
CATEGORIES:Events Local Area
ATTACH;FMTTYPE=image/jpeg:https://www.mountshastaresort.com/wp-content/uploads/sites/8249/2025/04/Pickleball.jpg
END:VEVENT
BEGIN:VEVENT
DTSTART;TZID=America/Los_Angeles:20250524T080000
DTEND;TZID=America/Los_Angeles:20250524T170000
DTSTAMP:20260421T031448
CREATED:20250430T215350Z
LAST-MODIFIED:20250430T215350Z
UID:10000054-1748073600-1748106000@www.mountshastaresort.com
SUMMARY:Mount Shasta Pickleball
DESCRIPTION:Register Now! Come have fun playing in a great tournament at the base of majestic Mount Shasta. Also lots to do in our beautiful area when you’re done playing. https://pickleballtournaments.com/…/2025-mt-shasta…
URL:https://www.mountshastaresort.com/event/mount-shasta-pickleball-3/
LOCATION:Mount Shasta Resort\, 1000 SISKIYOU LAKE BLVD\, MOUNT SHASTA\, CA\, 96067-9482\, United States
CATEGORIES:Events Local Area
ATTACH;FMTTYPE=image/jpeg:https://www.mountshastaresort.com/wp-content/uploads/sites/8249/2025/04/Pickleball.jpg
END:VEVENT
BEGIN:VEVENT
DTSTART;TZID=America/Los_Angeles:20250523T080000
DTEND;TZID=America/Los_Angeles:20250523T170000
DTSTAMP:20260421T031448
CREATED:20250430T215211Z
LAST-MODIFIED:20250430T215211Z
UID:10000052-1747987200-1748019600@www.mountshastaresort.com
SUMMARY:Mount Shasta Pickleball
DESCRIPTION:Register Now! Come have fun playing in a great tournament at the base of majestic Mount Shasta. Also lots to do in our beautiful area when you’re done playing. https://pickleballtournaments.com/…/2025-mt-shasta…
URL:https://www.mountshastaresort.com/event/mount-shasta-pickleball/
LOCATION:Mount Shasta Resort\, 1000 SISKIYOU LAKE BLVD\, MOUNT SHASTA\, CA\, 96067-9482\, United States
CATEGORIES:Events Local Area
ATTACH;FMTTYPE=image/jpeg:https://www.mountshastaresort.com/wp-content/uploads/sites/8249/2025/04/Pickleball.jpg
END:VEVENT
BEGIN:VEVENT
DTSTART;TZID=America/Los_Angeles:20250510T180000
DTEND;TZID=America/Los_Angeles:20250510T210000
DTSTAMP:20260421T031448
CREATED:20250402T230656Z
LAST-MODIFIED:20250402T230656Z
UID:10000026-1746900000-1746910800@www.mountshastaresort.com
SUMMARY:Boys and Girls Club Fundraiser Dinner
DESCRIPTION:  \n 2nd Annual Boys & Girls Club of Greater Shasta Fundraiser Dinner \n Date: Saturday\, May 10\, 2025 Location: Mount Shasta Resort Time: 6PM Purchase Tickets Here: https://bgcgreatershasta.networkforgood.com/…/85048…\nJoin us for a memorable evening of food\, fun\, and community impact at the 2nd Annual Boys & Girls Club of Greater Shasta Fundraiser Dinner!\nThis special event supports our summer programs\, which provide local youth with safe\, enriching\, and engaging experiences while school is out. As a nonprofit\, we receive no financial support from the national Boys & Girls Club of America (BGCA)—meaning every dollar raised stays local to benefit the families and children in our community.\nWhat to expect: Delicious Dinner & Drinks Exciting Raffles & Auctions A Chance to Make a Difference!\nBy attending\, you are helping us provide high-quality\, affordable programs to the youth and working families in our area. Your support keeps our doors open and ensures that kids have access to educational\, recreational\, and character-building experiences all summer long!\n Stay tuned for more details on tickets\, sponsorship opportunities\, and ways to get involved!\n Mark your calendars and invite your friends! Let’s come together to celebrate\, support\, and strengthen the future of our community.
URL:https://www.mountshastaresort.com/event/boys-and-girls-club-fundraiser-dinner/
LOCATION:Mount Shasta Resort\, 1000 SISKIYOU LAKE BLVD\, MOUNT SHASTA\, CA\, 96067-9482\, United States
CATEGORIES:Public Resort Event
ATTACH;FMTTYPE=image/jpeg:https://www.mountshastaresort.com/wp-content/uploads/sites/8249/2025/04/Boys-and-Girls-Club-Fundraiser-Dinner.jpg
END:VEVENT
BEGIN:VEVENT
DTSTART;TZID=America/Los_Angeles:20250427T083000
DTEND;TZID=America/Los_Angeles:20250427T143000
DTSTAMP:20260421T031448
CREATED:20250409T235912Z
LAST-MODIFIED:20250409T235912Z
UID:10000042-1745742600-1745764200@www.mountshastaresort.com
SUMMARY:Sisson Cubco Golf Tournament
DESCRIPTION:This 4 person scramble is open to the public and is a fundraiser for our local Sisson 8th grade trip. The tournament includes an awards ceremony\, lunch\, golf cart goodie bag\, longest drive closest to the pin\, and putting contest. \n$80/person. \n8:30-9am check in. 10am start time. \nCall Will at 530 926 3052 to register.
URL:https://www.mountshastaresort.com/event/sisson-cubco-golf-tournament/
LOCATION:Mount Shasta Resort\, 1000 SISKIYOU LAKE BLVD\, MOUNT SHASTA\, CA\, 96067-9482\, United States
CATEGORIES:Public Resort Event
ATTACH;FMTTYPE=image/jpeg:https://www.mountshastaresort.com/wp-content/uploads/sites/8249/2025/04/Cubco.jpg
END:VEVENT
BEGIN:VEVENT
DTSTART;TZID=America/Los_Angeles:20250420T110000
DTEND;TZID=America/Los_Angeles:20250420T140000
DTSTAMP:20260421T031448
CREATED:20250404T224121Z
LAST-MODIFIED:20250404T224121Z
UID:10000038-1745146800-1745157600@www.mountshastaresort.com
SUMMARY:Easter Brunch
DESCRIPTION:  \nJoin us for Easter brunch Sunday\, April 20th! We will be serving fan favorite breakfast and lunch items from or menu. Open 11am-2pm for brunch. Limited space. Be sure to make a reservation to ensure seating. (530) 926-3030 ext 188
URL:https://www.mountshastaresort.com/event/easter-brunch/
LOCATION:Mount Shasta Resort\, 1000 SISKIYOU LAKE BLVD\, MOUNT SHASTA\, CA\, 96067-9482\, United States
CATEGORIES:Public Resort Event
ATTACH;FMTTYPE=image/jpeg:https://www.mountshastaresort.com/wp-content/uploads/sites/8249/2025/04/Easter-Brunch.jpg
END:VEVENT
BEGIN:VEVENT
DTSTART;TZID=America/Los_Angeles:20250417T180000
DTEND;TZID=America/Los_Angeles:20250417T193000
DTSTAMP:20260421T031448
CREATED:20250403T232215Z
LAST-MODIFIED:20250403T232405Z
UID:10000037-1744912800-1744918200@www.mountshastaresort.com
SUMMARY:Crafts and Cocktails April- Spring Wreath
DESCRIPTION:  \nJoin us at the Mt. Shasta Resort for a fun night of crafting\, laughing\, eating and drinking! This is a pre-registered event\, and space is limited. Follow QR code or visit our facebook page to register.
URL:https://www.mountshastaresort.com/event/crafts-and-cocktails-april-spring-wreath/
LOCATION:Mount Shasta Resort\, 1000 SISKIYOU LAKE BLVD\, MOUNT SHASTA\, CA\, 96067-9482\, United States
CATEGORIES:Public Resort Event
ATTACH;FMTTYPE=image/jpeg:https://www.mountshastaresort.com/wp-content/uploads/sites/8249/2025/04/cca.jpg
ORGANIZER;CN="Mount Shasta Resort":MAILTO:events@mountshastaresort.com
END:VEVENT
BEGIN:VEVENT
DTSTART;TZID=America/Los_Angeles:20250313T180000
DTEND;TZID=America/Los_Angeles:20250313T200000
DTSTAMP:20260421T031448
CREATED:20250227T224457Z
LAST-MODIFIED:20250227T224457Z
UID:10000023-1741888800-1741896000@www.mountshastaresort.com
SUMMARY:Crafts and Cocktails- March
DESCRIPTION:
URL:https://www.mountshastaresort.com/event/crafts-and-cocktails-march/
LOCATION:Mount Shasta Resort\, 1000 SISKIYOU LAKE BLVD\, MOUNT SHASTA\, CA\, 96067-9482\, United States
CATEGORIES:Public Resort Event
ATTACH;FMTTYPE=image/png:https://www.mountshastaresort.com/wp-content/uploads/sites/8249/2025/02/c-and-c-March.png
END:VEVENT
BEGIN:VEVENT
DTSTART;TZID=America/Los_Angeles:20250301T090000
DTEND;TZID=America/Los_Angeles:20250301T180000
DTSTAMP:20260421T031448
CREATED:20250131T192209Z
LAST-MODIFIED:20250131T192209Z
UID:10000022-1740819600-1740852000@www.mountshastaresort.com
SUMMARY:The Wild Mountain Artisan Fair
DESCRIPTION:
URL:https://www.mountshastaresort.com/event/the-wild-mountain-artisan-fair/
LOCATION:Mount Shasta Resort\, 1000 SISKIYOU LAKE BLVD\, MOUNT SHASTA\, CA\, 96067-9482\, United States
CATEGORIES:Public Resort Event
ATTACH;FMTTYPE=image/jpeg:https://www.mountshastaresort.com/wp-content/uploads/sites/8249/2025/01/Wild-Mountain-Craft-Fair.jpg
END:VEVENT
BEGIN:VEVENT
DTSTART;TZID=America/Los_Angeles:20250213T180000
DTEND;TZID=America/Los_Angeles:20250213T200000
DTSTAMP:20260421T031448
CREATED:20250125T225412Z
LAST-MODIFIED:20250125T225516Z
UID:10000018-1739469600-1739476800@www.mountshastaresort.com
SUMMARY:Crafts and Cocktails -February
DESCRIPTION:February‘s craft and cocktail night would be a fun date night or social gathering with friends! We’ll be making Valentine charcuterie boards\, and enjoying some fun themed cocktails while doing it! Sign up following the link below or QR code. We’ll see you there!
URL:https://www.mountshastaresort.com/event/crafts-and-cocktails-february/
LOCATION:Mount Shasta Resort\, 1000 SISKIYOU LAKE BLVD\, MOUNT SHASTA\, CA\, 96067-9482\, United States
CATEGORIES:Public Resort Event
ATTACH;FMTTYPE=image/jpeg:https://www.mountshastaresort.com/wp-content/uploads/sites/8249/2025/01/ccff.jpg
END:VEVENT
BEGIN:VEVENT
DTSTART;TZID=America/Los_Angeles:20250123T180000
DTEND;TZID=America/Los_Angeles:20250123T200000
DTSTAMP:20260421T031448
CREATED:20250103T010125Z
LAST-MODIFIED:20250103T010125Z
UID:10000014-1737655200-1737662400@www.mountshastaresort.com
SUMMARY:Craft and Cocktail Night
DESCRIPTION:
URL:https://www.mountshastaresort.com/event/craft-and-cocktail-night/
LOCATION:Mount Shasta Resort\, 1000 SISKIYOU LAKE BLVD\, MOUNT SHASTA\, CA\, 96067-9482\, United States
CATEGORIES:Public Resort Event
ATTACH;FMTTYPE=image/jpeg:https://www.mountshastaresort.com/wp-content/uploads/sites/8249/2025/01/ccj_5ada7b.jpg
END:VEVENT
BEGIN:VEVENT
DTSTART;TZID=America/Los_Angeles:20241205T180000
DTEND;TZID=America/Los_Angeles:20241205T200000
DTSTAMP:20260421T031448
CREATED:20241113T225327Z
LAST-MODIFIED:20241113T225327Z
UID:10000013-1733421600-1733428800@www.mountshastaresort.com
SUMMARY:Crafts and Cocktails- December
DESCRIPTION:It’s time to sign up for December’s “Crafts and Cocktails!” This month we’ll be making a festive porch gnome out of tomato cages and fresh greenery. We have all the supplies covered\, so grab a friend and sign up to join this fun event!\n*Must sign up ahead of time. Follow the link below or QR code of picture.\n\nhttps://www.eventbrite.com/e/crafts-and-cocktails-december-tickets-1082634160919?aff=oddtdtcreator
URL:https://www.mountshastaresort.com/event/crafts-and-cocktails-december/
LOCATION:Mount Shasta Resort\, 1000 SISKIYOU LAKE BLVD\, MOUNT SHASTA\, CA\, 96067-9482\, United States
CATEGORIES:Public Resort Event
ATTACH;FMTTYPE=image/png:https://www.mountshastaresort.com/wp-content/uploads/sites/8249/2024/11/Craft-and-cocktail-d.png
END:VEVENT
END:VCALENDAR