BEGIN:VCALENDAR
VERSION:2.0
PRODID:-//Mount Shasta Resort - ECPv6.15.18//NONSGML v1.0//EN
CALSCALE:GREGORIAN
METHOD:PUBLISH
X-ORIGINAL-URL:https://www.mountshastaresort.com
X-WR-CALDESC:Events for Mount Shasta Resort
REFRESH-INTERVAL;VALUE=DURATION:PT1H
X-Robots-Tag:noindex
X-PUBLISHED-TTL:PT1H
BEGIN:VTIMEZONE
TZID:America/Los_Angeles
BEGIN:DAYLIGHT
TZOFFSETFROM:-0800
TZOFFSETTO:-0700
TZNAME:PDT
DTSTART:20250309T100000
END:DAYLIGHT
BEGIN:STANDARD
TZOFFSETFROM:-0700
TZOFFSETTO:-0800
TZNAME:PST
DTSTART:20251102T090000
END:STANDARD
BEGIN:DAYLIGHT
TZOFFSETFROM:-0800
TZOFFSETTO:-0700
TZNAME:PDT
DTSTART:20260308T100000
END:DAYLIGHT
BEGIN:STANDARD
TZOFFSETFROM:-0700
TZOFFSETTO:-0800
TZNAME:PST
DTSTART:20261101T090000
END:STANDARD
BEGIN:DAYLIGHT
TZOFFSETFROM:-0800
TZOFFSETTO:-0700
TZNAME:PDT
DTSTART:20270314T100000
END:DAYLIGHT
BEGIN:STANDARD
TZOFFSETFROM:-0700
TZOFFSETTO:-0800
TZNAME:PST
DTSTART:20271107T090000
END:STANDARD
END:VTIMEZONE
BEGIN:VEVENT
DTSTART;TZID=America/Los_Angeles:20260607T080000
DTEND;TZID=America/Los_Angeles:20260607T160000
DTSTAMP:20260420T015601
CREATED:20260308T190123Z
LAST-MODIFIED:20260308T190123Z
UID:10000153-1780819200-1780848000@www.mountshastaresort.com
SUMMARY:Mt. Shasta Chamber & Mountain Top Athletics Golf Tournament!
DESCRIPTION:Swing into Spring Tournament!\nAll proceeds support the local Chamber and Mountain Top Athletics Local Youth Sports\n\nService Description\nThis Booking is for Teams of Four- $460/team. \nCancellation Policy\nOnce you have successfully submitted a payment\, there are no cancellations or refunds. For questions regarding your booking\, please contact Kaila Burns: 530-926-3165 \n\n\n\n\n\n\n\nContact Details\n\n530-926-4865 \n\n\nkaila@mtshastachamber.com \n\n\n300 Pine Street\, Mt Shasta\, CA\, USA
URL:https://www.mountshastaresort.com/event/mt-shasta-chamber-mountain-top-athletics-golf-tournament/
LOCATION:Mount Shasta Resort\, 1000 SISKIYOU LAKE BLVD\, MOUNT SHASTA\, CA\, 96067-9482\, United States
CATEGORIES:Golf Tournaments
ATTACH;FMTTYPE=image/jpeg:https://www.mountshastaresort.com/wp-content/uploads/sites/8249/2026/03/chamber.jpg
ORGANIZER;CN="Mount Shasta Chamber of Commerce":MAILTO:info@mtshastachamber.com
END:VEVENT
END:VCALENDAR