BEGIN:VCALENDAR
VERSION:2.0
PRODID:-//Mount Shasta Resort - ECPv6.15.18//NONSGML v1.0//EN
CALSCALE:GREGORIAN
METHOD:PUBLISH
X-ORIGINAL-URL:https://www.mountshastaresort.com
X-WR-CALDESC:Events for Mount Shasta Resort
REFRESH-INTERVAL;VALUE=DURATION:PT1H
X-Robots-Tag:noindex
X-PUBLISHED-TTL:PT1H
BEGIN:VTIMEZONE
TZID:America/Los_Angeles
BEGIN:DAYLIGHT
TZOFFSETFROM:-0800
TZOFFSETTO:-0700
TZNAME:PDT
DTSTART:20240310T100000
END:DAYLIGHT
BEGIN:STANDARD
TZOFFSETFROM:-0700
TZOFFSETTO:-0800
TZNAME:PST
DTSTART:20241103T090000
END:STANDARD
BEGIN:DAYLIGHT
TZOFFSETFROM:-0800
TZOFFSETTO:-0700
TZNAME:PDT
DTSTART:20250309T100000
END:DAYLIGHT
BEGIN:STANDARD
TZOFFSETFROM:-0700
TZOFFSETTO:-0800
TZNAME:PST
DTSTART:20251102T090000
END:STANDARD
BEGIN:DAYLIGHT
TZOFFSETFROM:-0800
TZOFFSETTO:-0700
TZNAME:PDT
DTSTART:20260308T100000
END:DAYLIGHT
BEGIN:STANDARD
TZOFFSETFROM:-0700
TZOFFSETTO:-0800
TZNAME:PST
DTSTART:20261101T090000
END:STANDARD
END:VTIMEZONE
BEGIN:VEVENT
DTSTART;TZID=America/Los_Angeles:20250427T083000
DTEND;TZID=America/Los_Angeles:20250427T143000
DTSTAMP:20260420T062733
CREATED:20250409T235912Z
LAST-MODIFIED:20250409T235912Z
UID:10000042-1745742600-1745764200@www.mountshastaresort.com
SUMMARY:Sisson Cubco Golf Tournament
DESCRIPTION:This 4 person scramble is open to the public and is a fundraiser for our local Sisson 8th grade trip. The tournament includes an awards ceremony\, lunch\, golf cart goodie bag\, longest drive closest to the pin\, and putting contest. \n$80/person. \n8:30-9am check in. 10am start time. \nCall Will at 530 926 3052 to register.
URL:https://www.mountshastaresort.com/event/sisson-cubco-golf-tournament/
LOCATION:Mount Shasta Resort\, 1000 SISKIYOU LAKE BLVD\, MOUNT SHASTA\, CA\, 96067-9482\, United States
CATEGORIES:Public Resort Event
ATTACH;FMTTYPE=image/jpeg:https://www.mountshastaresort.com/wp-content/uploads/sites/8249/2025/04/Cubco.jpg
END:VEVENT
END:VCALENDAR