BEGIN:VCALENDAR
VERSION:2.0
PRODID:-//Mount Shasta Resort - ECPv6.15.18//NONSGML v1.0//EN
CALSCALE:GREGORIAN
METHOD:PUBLISH
X-WR-CALNAME:Mount Shasta Resort
X-ORIGINAL-URL:https://www.mountshastaresort.com
X-WR-CALDESC:Events for Mount Shasta Resort
REFRESH-INTERVAL;VALUE=DURATION:PT1H
X-Robots-Tag:noindex
X-PUBLISHED-TTL:PT1H
BEGIN:VTIMEZONE
TZID:America/Los_Angeles
BEGIN:DAYLIGHT
TZOFFSETFROM:-0800
TZOFFSETTO:-0700
TZNAME:PDT
DTSTART:20250309T100000
END:DAYLIGHT
BEGIN:STANDARD
TZOFFSETFROM:-0700
TZOFFSETTO:-0800
TZNAME:PST
DTSTART:20251102T090000
END:STANDARD
BEGIN:DAYLIGHT
TZOFFSETFROM:-0800
TZOFFSETTO:-0700
TZNAME:PDT
DTSTART:20260308T100000
END:DAYLIGHT
BEGIN:STANDARD
TZOFFSETFROM:-0700
TZOFFSETTO:-0800
TZNAME:PST
DTSTART:20261101T090000
END:STANDARD
BEGIN:DAYLIGHT
TZOFFSETFROM:-0800
TZOFFSETTO:-0700
TZNAME:PDT
DTSTART:20270314T100000
END:DAYLIGHT
BEGIN:STANDARD
TZOFFSETFROM:-0700
TZOFFSETTO:-0800
TZNAME:PST
DTSTART:20271107T090000
END:STANDARD
END:VTIMEZONE
BEGIN:VEVENT
DTSTART;TZID=America/Los_Angeles:20260418T170000
DTEND;TZID=America/Los_Angeles:20260418T220000
DTSTAMP:20260420T015428
CREATED:20260308T185500Z
LAST-MODIFIED:20260308T185500Z
UID:10000152-1776531600-1776549600@www.mountshastaresort.com
SUMMARY:Siskiyou Humane Society-Under the Northern Lights Gala
DESCRIPTION:Under The Northern Lights Gala: A Night To Shine For Shelter Pets is slated for the evening of Saturday\, April 18th\, 2026. Say No More. \n  \nJK\, we have a lot to share with you! We have an amazing event curated for you at Mount Shasta Resort\, including exciting music\, an infamous dessert dash\, a flavorful dinner\, a live auction\, a gold star raffle\, and themed artisan cocktails. \n  \nAnd that’s not all…for all our glam girlies\, wifeys\, and baddies…this is your opportunity to dress for the occasion! Cocktail/Evening attire ENCOURAGED. \n  \nSo show up. Show out. Bring your arm candy\, bring those checkbooks\, and help us SAVE MORE PETS’ LIVES! \n  \nBUY YOUR TICKETS EARLY BEFORE PRICES GO UP\, OR TICKETS SELL OUT:
URL:https://www.mountshastaresort.com/event/siskiyou-humane-society-under-the-northern-lights-gala/
LOCATION:Mount Shasta Resort\, 1000 SISKIYOU LAKE BLVD\, MOUNT SHASTA\, CA\, 96067-9482\, United States
CATEGORIES:Public Resort Event
ATTACH;FMTTYPE=image/png:https://www.mountshastaresort.com/wp-content/uploads/sites/8249/2026/03/humane.png
END:VEVENT
END:VCALENDAR